Workbook

Sheet Day Books
A3: Case Study-Phoenix Ltd | C3: Day Books- Phoenix Ltd | K3: Tasks
C6: Sales Day Book | V6: Completed
C7: Date | D7: Trade Receivables | E7: Invoice | F7: Net Value | G7: VAT (Tax) 23% | H7: Gross Value | K7: 1. Demonstrate the usability of multiple sheets in the preparation of day books, ledgers and extracting a trial balance. | V7: FALSE
C8: 46174 | D8: Holland ltd | E8: 450 | F8: 1200 | G8: =F8*0.23 -> 276 | H8: =SUM(F8:G8) -> 1476
C9: 46175 | D9: Kenny | E9: 451 | F9: 4000 | G9: =F9*0.23 -> 920 | H9: =SUM(F9:G9) -> 4920 | K9: 2. Read the question given, noting the specific errors in the trial balance..
C10: 46178 | D10: Jones ltd | E10: 452 | F10: 3000 | G10: =F10*0.23 -> 690 | H10: =SUM(F10:G10) -> 3690 | V10: FALSE
C11: 46179 | D11: Kenny | E11: 453 | F11: 10000 | G11: =F11*0.23 -> 2300 | H11: =SUM(F11:G11) -> 12300
C12: 46182 | D12: Holland ltd | E12: 454 | F12: 4500 | G12: =F12*0.23 -> 1035 | H12: =SUM(F12:G12) -> 5535 | K12: (a) Error of omission - On the 11/6/26 net sales on credit totalling €1,800 (excluding VAT) to Holland Ltd have been completely omitted (invoice no. 456). | V12: FALSE
C13: 46183 | D13: Jones ltd | E13: 455 | F13: 260 | G13: =F13*0.23 -> 59.8 | H13: =SUM(F13:G13) -> 319.8
C14: 46185 | D14: Jones ltd | E14: 457 | F14: 1000 | G14: =F14*0.23 -> 230 | H14: =SUM(F14:G14) -> 1230
C15: 46187 | D15: Holland ltd | E15: 458 | F15: 7000 | G15: =F15*0.23 -> 1610 | H15: =SUM(F15:G15) -> 8610 | K15: (b) Error of commission -On the 9/6/26 gross credit purchases from Sheridan Ltd totalling €799.50(incl VAT) were incorrectly recorded as McKeown Ltd in the trade payables ledger. | V15: FALSE
G16: =F16*0.23 -> 0 | H16: =SUM(F16:G16) -> 0
G17: =F17*0.21 -> 0
F18: =SUM(F8:F17) -> 30960 | G18: =SUM(G8:G17) -> 7120.8 | H18: =SUM(H8:H17) -> 38080.8 | K18: (c) Error of Original Entry - A credit note received from Sheridan Ltd on 5/6/26 overstated the gross returns at €1,230 (net amount €1000 plus VAT) instead of the correct net amount of €100. | V18: FALSE
C21: Sales Returns Book | V21: FALSE
C22: Date | D22: Trade Receivables | E22: Cr. Note | F22: Net Value | G22: VAT (Tax) 23% | H22: Gross Value | K22: 3. Identify the errors that impact on the trial balance figures.
C23: 46176 | D23: Holland Ltd | E23: 12 | F23: 600 | G23: =F23*0.23 -> 138 | H23: =SUM(F23:G23) -> 738
K24: 4. Correct the errors, noting the transfer from the source documents to the ledgers and to the trial balance. | V24: FALSE
C26: Purchases Day Book
C27: Date | D27: Trade Payables | E27: Invoice | F27: Net Value | G27: VAT (Tax) 23% | H27: Gross Value | K27: 5. Demonstrate the accounting equation in action. | V27: FALSE
C28: 46174 | D28: Sheridan ltd | E28: 450 | F28: 5000 | G28: =F28*0.23 -> 1150 | H28: =SUM(F28:G28) -> 6150
C29: 46175 | D29: McKeown ltd | E29: 451 | F29: 1000 | G29: =F29*0.23 -> 230 | H29: =SUM(F29:G29) -> 1230
C30: 46178 | D30: Jackson ltd | E30: 452 | F30: 450 | G30: =F30*0.23 -> 103.5 | H30: =SUM(F30:G30) -> 553.5
C31: 46179 | D31: McKeown ltd | E31: 253 | F31: 700 | G31: =F31*0.23 -> 161 | H31: =SUM(F31:G31) -> 861
C32: 46182 | D32: Sheridan ltd | E32: 258 | F32: 650 | G32: =F32*0.23 -> 149.5 | H32: =SUM(F32:G32) -> 799.5
C33: 46183 | D33: McKeown ltd | E33: 12 | F33: 45 | G33: =F33*0.23 -> 10.35 | H33: =SUM(F33:G33) -> 55.35
C34: 46183 | D34: Jackson ltd | E34: 200 | F34: 600 | G34: =F34*0.23 -> 138 | H34: =SUM(F34:G34) -> 738
C35: 46187 | D35: Sheridan ltd | E35: 276 | F35: 440 | G35: =F35*0.23 -> 101.2 | H35: =SUM(F35:G35) -> 541.2
G36: =F36*0.23 -> 0 | H36: =SUM(F36:G36) -> 0
F37: =SUM(F28:F36) -> 8885 | G37: =SUM(G28:G36) -> 2043.55 | H37: =SUM(H28:H36) -> 10928.55
C39: Purchases Returns Book
C40: Date | D40: Trade Payables | E40: Cr. Note | F40: Net Value | G40: VAT (Tax) 23% | H40: Gross Value
C41: 46178 | D41: Sheridan ltd | E41: 201 | F41: 1000 | G41: =F41*0.23 -> 230 | H41: =F41+G41 -> 1230
A44: #VALUE! | C44: #VALUE! | K44: #VALUE!

Sheet Ledger Accounts
B2: Phoenix Ltd Ledgers
B4: Date | C4: Details | D4: Total | E4: Date | F4: Details | G4: Total
D6: General Ledger
B7: Sales Account
E8: 46203 | F8: Trade Receivables | G8: ='Day Books'!F18 -> 30960
B9: 46203 | C9: Balance C/D | D9: =D10-SUM(D8) -> 30960
D10: =G10 -> 30960 | G10: =G8 -> 30960
E11: 46204 | F11: Balance B/D | G11: =D9 -> 30960
B13: Vat Account
B14: 46203 | C14: Trade Payables | D14: ='Day Books'!G37 -> 2043.55 | E14: 46203 | F14: Trade Receivables | G14: ='Day Books'!G18 -> 7120.8
B15: 46203 | C15: Sales Returns | D15: ='Day Books'!G23 -> 138 | E15: 46203 | F15: Purchases Returns | G15: ='Day Books'!G41 -> 230
B16: 46203 | C16: Balance C/D | D16: =D17-SUM(D14+D15) -> 5169.25
D17: =G17 -> 7350.8 | G17: =SUM(G14:G15) -> 7350.8
E18: 46204 | F18: Balance B/D | G18: =D16 -> 5169.25
B20: Sales Returns Account
B21: 46203 | C21: Trade Receivables | D21: ='Day Books'!F23 -> 600
D24: Purchases Account
B25: 46203 | C25: Trade Payables | D25: ='Day Books'!F37 -> 8885
B27: Purchases Returns Account
E28: 46203 | F28: Trade Payables | G28: ='Day Books'!F41 -> 1000
B30: Bank Account
B31: 46029 | C31: Balance B/D | D31: 45000
B33: Equipment Account
B34: 46029 | C34: Balance B/D | D34: 105000
B36: Capital Account
E37: 46029 | F37: Balance B/D | G37: 150000
B40: #VALUE!
B42: Trade Receivables Ledger
D43: Holland Ltd Account
B44: ='Day Books'!C8 -> 46174 | C44: Credit Sales | D44: ='Day Books'!H8 -> 1476 | E44: ='Day Books'!C23 -> 46176 | F44: Sales Returns | G44: ='Day Books'!H23 -> 738
B45: ='Day Books'!C12 -> 46182 | C45: Credit Sales | D45: ='Day Books'!H12 -> 5535
B46: ='Day Books'!C15 -> 46187 | C46: Credit Sales | D46: ='Day Books'!H15 -> 8610
B47: ='Day Books'!C16 -> 0 | C47: ='Day Books'!D16 -> 0 | D47: ='Day Books'!H16 -> 0 | E47: 46203 | F47: Balance C/D | G47: =G48-SUM(G44:G46) -> 14883
D48: =SUM(D44:D47) -> 15621 | G48: =D48 -> 15621
B49: 46204 | C49: Balance B/D | D49: =G47 -> 14883
D52: Kenny Ltd Account
B53: ='Day Books'!C9 -> 46175 | C53: Credit Sales | D53: ='Day Books'!H9 -> 4920
B54: ='Day Books'!C11 -> 46179 | C54: Credit Sales | D54: ='Day Books'!H11 -> 12300
E55: 46203 | F55: Balance C/D | G55: =G56-SUM(G53:G54) -> 17220
D56: =SUM(D53:D54) -> 17220 | G56: =D56 -> 17220
...

Sheet Trial Balance
B3: Phoenix Ltd Trial Balance as at 30/6/2026 | C3: DR | D3: CR
B5: Sales account | D5: ='Ledger Accounts'!G11 -> 30960
B6: ='Ledger Accounts'!B13 -> Vat Account | D6: ='Ledger Accounts'!G18 -> 5169.25
B7: ='Ledger Accounts'!B20 -> Sales Returns Account | C7: ='Ledger Accounts'!D21 -> 600
B8: ='Ledger Accounts'!D24 -> Purchases Account | C8: ='Ledger Accounts'!D25 -> 8885
B9: Purchases Returns Account | D9: ='Ledger Accounts'!G28 -> 1000
B10: ='Ledger Accounts'!B30 -> Bank Account | C10: ='Ledger Accounts'!D31 -> 45000
B11: ='Ledger Accounts'!B33 -> Equipment Account | C11: ='Ledger Accounts'!D34 -> 105000
B12: ='Ledger Accounts'!B36 -> Capital Account | D12: ='Ledger Accounts'!G37 -> 150000
B13: Trade Receivables
B14: ='Ledger Accounts'!D43 -> Holland Ltd Account | C14: ='Ledger Accounts'!D49 -> 14883
B15: ='Ledger Accounts'!D59 -> Jones Ltd Account | C15: ='Ledger Accounts'!D65 -> 5239.8
B16: ='Ledger Accounts'!D52 -> Kenny Ltd Account | C16: ='Ledger Accounts'!D57 -> 17220
B17: Trade Payables
B18: ='Ledger Accounts'!D68 -> Sheridan Ltd Account | D18: ='Ledger Accounts'!G73 -> 5461.2
B19: ='Ledger Accounts'!D75 -> McKeown Ltd Account | D19: ='Ledger Accounts'!G82 -> 2945.85
B20: ='Ledger Accounts'!D84 -> Jackson ltd Account | D20: ='Ledger Accounts'!G89 -> 1291.5
C22: =SUM(C5:C21) -> 196827.8 | D22: =SUM(D5:D21) -> 196827.8
B31: #VALUE!

Sheet The AC Equation
B4: The Accounting Equation
B7: Assets | C7: Minus/ Less | D7: Liabilities | F7: Equals = | G7: Equity
B10: ='Trial Balance'!B10 -> Bank Account | C10: ='Trial Balance'!C10 -> 45000 | D10: Trade Payables | G10: Capital | H10: ='Trial Balance'!D12 -> 150000
B11: ='Trial Balance'!B11 -> Equipment Account | C11: ='Trial Balance'!C11 -> 105000 | D11: ='Trial Balance'!B18 -> Sheridan Ltd Account | E11: ='Trial Balance'!D18 -> 5461.2 | G11: Add Revenue (Sales - Sales Returns) | H11: ='Trial Balance'!D5-'Trial Balance'!C7 -> 30360
B12: Trade Receivables | D12: ='Trial Balance'!B19 -> McKeown Ltd Account | E12: ='Trial Balance'!D19 -> 2945.85 | G12: Less Expenses (Purchases - Purchases Returns) | H12: ='Trial Balance'!C8-'Trial Balance'!D9 -> 7885
B13: Holland Ltd Account | C13: ='Trial Balance'!C14 -> 14883 | D13: ='Trial Balance'!B20 -> Jackson ltd Account | E13: ='Trial Balance'!D20 -> 1291.5
B14: Kenny Ltd Account | C14: ='Trial Balance'!C16 -> 17220 | D14: Vat Due | E14: ='Trial Balance'!D6 -> 5169.25
B15: Jones Ltd Account | C15: ='Trial Balance'!C15 -> 5239.8
C17: =SUM(C10:C16) -> 187342.8 | D17: Minus/ Less | E17: =SUM(E11:E16) -> 14867.8 | F17: =C17-E17 -> 172475 | G17: Equals = | H17: =H10+H11-H12 -> 172475

Sheet Double Entry Format
B2: Day Books | H2: Ledgers | O2: Trial Balance
H5: Date | I5: Details | J5: Total | K5: Date | L5: Details | M5: Total | O5: Trial Balance as at 30/6/2026 | P5: DR | Q5: CR
B6: Date | C6: Trade Receivables | D6: Net Value | E6: VAT (Tax) 23% | F6: Gross Value
B17: Date | C17: Trade Payables | D17: Net Value | E17: VAT (Tax) 23% | F17: Gross Value
